BEGIN:VCALENDAR
VERSION:2.0
PRODID:-//Law4Hogs - ECPv6.15.10//NONSGML v1.0//EN
CALSCALE:GREGORIAN
METHOD:PUBLISH
X-ORIGINAL-URL:https://www.law4hogs.com
X-WR-CALDESC:Events for Law4Hogs
REFRESH-INTERVAL;VALUE=DURATION:PT1H
X-Robots-Tag:noindex
X-PUBLISHED-TTL:PT1H
BEGIN:VTIMEZONE
TZID:America/New_York
BEGIN:DAYLIGHT
TZOFFSETFROM:-0500
TZOFFSETTO:-0400
TZNAME:EDT
DTSTART:20240310T070000
END:DAYLIGHT
BEGIN:STANDARD
TZOFFSETFROM:-0400
TZOFFSETTO:-0500
TZNAME:EST
DTSTART:20241103T060000
END:STANDARD
BEGIN:DAYLIGHT
TZOFFSETFROM:-0500
TZOFFSETTO:-0400
TZNAME:EDT
DTSTART:20250309T070000
END:DAYLIGHT
BEGIN:STANDARD
TZOFFSETFROM:-0400
TZOFFSETTO:-0500
TZNAME:EST
DTSTART:20251102T060000
END:STANDARD
BEGIN:DAYLIGHT
TZOFFSETFROM:-0500
TZOFFSETTO:-0400
TZNAME:EDT
DTSTART:20260308T070000
END:DAYLIGHT
BEGIN:STANDARD
TZOFFSETFROM:-0400
TZOFFSETTO:-0500
TZNAME:EST
DTSTART:20261101T060000
END:STANDARD
END:VTIMEZONE
BEGIN:VEVENT
DTSTART;TZID=America/New_York:20250627T090000
DTEND;TZID=America/New_York:20250629T220000
DTSTAMP:20260420T045453
CREATED:20250517T140812Z
LAST-MODIFIED:20250517T140812Z
UID:15137-1751014800-1751234400@www.law4hogs.com
SUMMARY:NJ Buffalo Soldiers Annual Event
DESCRIPTION:See Flyer
URL:https://www.law4hogs.com/event/nj-buffalo-soldiers-annual-event/
LOCATION:Barbs Harley Davidson\, 926 Black Horse Pike\, Mt. Ephraim\, New Jersey\, 08059\, US
ATTACH;FMTTYPE=image/jpeg:https://www.law4hogs.com/wp-content/uploads/Buff-Sold.jpg
ORGANIZER;CN="New Jersey Buffalo Soldiers MC":MAILTO:kcnjbsmc@gmail.com
END:VEVENT
END:VCALENDAR