BEGIN:VCALENDAR
VERSION:2.0
PRODID:-//Law4Hogs - ECPv6.15.10//NONSGML v1.0//EN
CALSCALE:GREGORIAN
METHOD:PUBLISH
X-ORIGINAL-URL:https://www.law4hogs.com
X-WR-CALDESC:Events for Law4Hogs
REFRESH-INTERVAL;VALUE=DURATION:PT1H
X-Robots-Tag:noindex
X-PUBLISHED-TTL:PT1H
BEGIN:VTIMEZONE
TZID:America/New_York
BEGIN:DAYLIGHT
TZOFFSETFROM:-0500
TZOFFSETTO:-0400
TZNAME:EDT
DTSTART:20240310T070000
END:DAYLIGHT
BEGIN:STANDARD
TZOFFSETFROM:-0400
TZOFFSETTO:-0500
TZNAME:EST
DTSTART:20241103T060000
END:STANDARD
BEGIN:DAYLIGHT
TZOFFSETFROM:-0500
TZOFFSETTO:-0400
TZNAME:EDT
DTSTART:20250309T070000
END:DAYLIGHT
BEGIN:STANDARD
TZOFFSETFROM:-0400
TZOFFSETTO:-0500
TZNAME:EST
DTSTART:20251102T060000
END:STANDARD
BEGIN:DAYLIGHT
TZOFFSETFROM:-0500
TZOFFSETTO:-0400
TZNAME:EDT
DTSTART:20260308T070000
END:DAYLIGHT
BEGIN:STANDARD
TZOFFSETFROM:-0400
TZOFFSETTO:-0500
TZNAME:EST
DTSTART:20261101T060000
END:STANDARD
END:VTIMEZONE
BEGIN:VEVENT
DTSTART;TZID=America/New_York:20250720T100000
DTEND;TZID=America/New_York:20250720T170000
DTSTAMP:20260420T111108
CREATED:20250701T221945Z
LAST-MODIFIED:20250701T221945Z
UID:15472-1753005600-1753030800@www.law4hogs.com
SUMMARY:Julia Ride 2025  Expendables MC NJ
DESCRIPTION:EXPENDABLES MC NJ \nSunday July 20\, 2025   1 pm \nHONORING Fallen Volunteer \nFirefighter and 2nd lieutenant \nRobert J. Oross \nBridgewater Eagles Club \n350 Woodside Lane Bridgewater\, NJ \nOpen to the Public / Children 12 and under FREE \nApplebee’s Food * Beverages * Raffles \n50/50 Drawing \n50 Mile Escorted Ride \nAMA Sanctioned and Insured \nRegistration: 10 am Rider/Passenger \nKickstands Up: 11:30 am/Rain or Shine \n$25 admission per person
URL:https://www.law4hogs.com/event/julia-ride-2025-expendables-mc-nj/
LOCATION:Fraternal Order of Eagles Aerie # 2137 350 Woodside Lane Bridgewater\, NJ 08807\, 350 Woodside Lane\, Bridgewater\, NJ\, 08807\, US
CATEGORIES:Charity,Event,Scenic Ride
END:VEVENT
BEGIN:VEVENT
DTSTART;TZID=America/New_York:20250720T110000
DTEND;TZID=America/New_York:20250720T170000
DTSTAMP:20260420T111108
CREATED:20250705T002103Z
LAST-MODIFIED:20250705T002103Z
UID:15498-1753009200-1753030800@www.law4hogs.com
SUMMARY:The Toni Donato-Bolis & Baby RJ Foundation Annual Bike Run
DESCRIPTION:See Flyer
URL:https://www.law4hogs.com/event/the-toni-donato-bolis-baby-rj-foundation-annual-bike-run/
LOCATION:Barb’s Harley Davidson\, 926 Black Horse Pike\, Mt. Ephraim\, NJ\, 08059\, US
ATTACH;FMTTYPE=image/jpeg:https://www.law4hogs.com/wp-content/uploads/Toni-BikeRunFlyer2025.jpeg
END:VEVENT
END:VCALENDAR