BEGIN:VCALENDAR
VERSION:2.0
PRODID:-//Law4Hogs - ECPv6.15.10//NONSGML v1.0//EN
CALSCALE:GREGORIAN
METHOD:PUBLISH
X-WR-CALNAME:Law4Hogs
X-ORIGINAL-URL:https://www.law4hogs.com
X-WR-CALDESC:Events for Law4Hogs
REFRESH-INTERVAL;VALUE=DURATION:PT1H
X-Robots-Tag:noindex
X-PUBLISHED-TTL:PT1H
BEGIN:VTIMEZONE
TZID:America/New_York
BEGIN:DAYLIGHT
TZOFFSETFROM:-0500
TZOFFSETTO:-0400
TZNAME:EDT
DTSTART:20240310T070000
END:DAYLIGHT
BEGIN:STANDARD
TZOFFSETFROM:-0400
TZOFFSETTO:-0500
TZNAME:EST
DTSTART:20241103T060000
END:STANDARD
BEGIN:DAYLIGHT
TZOFFSETFROM:-0500
TZOFFSETTO:-0400
TZNAME:EDT
DTSTART:20250309T070000
END:DAYLIGHT
BEGIN:STANDARD
TZOFFSETFROM:-0400
TZOFFSETTO:-0500
TZNAME:EST
DTSTART:20251102T060000
END:STANDARD
BEGIN:DAYLIGHT
TZOFFSETFROM:-0500
TZOFFSETTO:-0400
TZNAME:EDT
DTSTART:20260308T070000
END:DAYLIGHT
BEGIN:STANDARD
TZOFFSETFROM:-0400
TZOFFSETTO:-0500
TZNAME:EST
DTSTART:20261101T060000
END:STANDARD
END:VTIMEZONE
BEGIN:VEVENT
DTSTART;VALUE=DATE:20250803
DTEND;VALUE=DATE:20250804
DTSTAMP:20260422T053825
CREATED:20250628T015944Z
LAST-MODIFIED:20250628T015944Z
UID:15442-1754179200-1754265599@www.law4hogs.com
SUMMARY:American Legion Riders Post  348 Poker Run
DESCRIPTION:Don’t miss out on a fantastic opportunity. Join the Brick Post 348 American Legion Riders for their Annual Poker Run Fundraiser on Sunday\, August 3rd\,  Following a scenic ride\, unwind by the water while enjoying live music\, beverages\, and a delicious all-you-can-eat barbecue. The most rewarding aspect is the support you’ll be providing to American Veterans.\nSee flyer for starting points. Walk ins welcome at 1pm at the post. 822 Mantoloking Rd\, Brick.
URL:https://www.law4hogs.com/event/american-legion-riders-post-348-poker-run-3/
LOCATION:2652 Lacey Road
CATEGORIES:Charity
ATTACH;FMTTYPE=image/jpeg:https://www.law4hogs.com/wp-content/uploads/inbound818614120922791740-1-scaled.jpg
END:VEVENT
BEGIN:VEVENT
DTSTART;TZID=America/New_York:20250803T090000
DTEND;TZID=America/New_York:20250803T170000
DTSTAMP:20260422T053825
CREATED:20250505T185156Z
LAST-MODIFIED:20250506T174809Z
UID:14868-1754211600-1754240400@www.law4hogs.com
SUMMARY:MIDDLETOWN ELKS POKER RUN FOR THE KIDS
DESCRIPTION:Sunday August 4  Registration 9am to 11 AM. Live Music\, food and refreshments from 1pm to 5pm.
URL:https://www.law4hogs.com/event/middletown-elks-poker-run-for-the-kids/
LOCATION:Middletown Elks Lodge 2179\, 251 Church Street\, Belford\, NJ\, 07718\, US
ATTACH;FMTTYPE=image/jpeg:https://www.law4hogs.com/wp-content/uploads/Middletown-Elks-Run-for-Kids-1.jpg
END:VEVENT
END:VCALENDAR