BEGIN:VCALENDAR
VERSION:2.0
PRODID:-//Law4Hogs - ECPv6.15.10//NONSGML v1.0//EN
CALSCALE:GREGORIAN
METHOD:PUBLISH
X-WR-CALNAME:Law4Hogs
X-ORIGINAL-URL:https://www.law4hogs.com
X-WR-CALDESC:Events for Law4Hogs
REFRESH-INTERVAL;VALUE=DURATION:PT1H
X-Robots-Tag:noindex
X-PUBLISHED-TTL:PT1H
BEGIN:VTIMEZONE
TZID:America/New_York
BEGIN:DAYLIGHT
TZOFFSETFROM:-0500
TZOFFSETTO:-0400
TZNAME:EDT
DTSTART:20240310T070000
END:DAYLIGHT
BEGIN:STANDARD
TZOFFSETFROM:-0400
TZOFFSETTO:-0500
TZNAME:EST
DTSTART:20241103T060000
END:STANDARD
BEGIN:DAYLIGHT
TZOFFSETFROM:-0500
TZOFFSETTO:-0400
TZNAME:EDT
DTSTART:20250309T070000
END:DAYLIGHT
BEGIN:STANDARD
TZOFFSETFROM:-0400
TZOFFSETTO:-0500
TZNAME:EST
DTSTART:20251102T060000
END:STANDARD
BEGIN:DAYLIGHT
TZOFFSETFROM:-0500
TZOFFSETTO:-0400
TZNAME:EDT
DTSTART:20260308T070000
END:DAYLIGHT
BEGIN:STANDARD
TZOFFSETFROM:-0400
TZOFFSETTO:-0500
TZNAME:EST
DTSTART:20261101T060000
END:STANDARD
END:VTIMEZONE
BEGIN:VEVENT
DTSTART;TZID=America/New_York:20250816T180000
DTEND;TZID=America/New_York:20250816T220000
DTSTAMP:20260422T073725
CREATED:20250517T144633Z
LAST-MODIFIED:20250517T144633Z
UID:15142-1755367200-1755381600@www.law4hogs.com
SUMMARY:Jackson AMVETS Riders Post 2 Bike/Band Night
DESCRIPTION:See flyer
URL:https://www.law4hogs.com/event/jackson-amvets-riders-post-2-bike-band-night/
LOCATION:Jackson AMVETS
ATTACH;FMTTYPE=image/jpeg:https://www.law4hogs.com/wp-content/uploads/Jack-Amvets-6.7-band_n-2.jpg
END:VEVENT
END:VCALENDAR