BEGIN:VCALENDAR
VERSION:2.0
PRODID:-//Law4Hogs - ECPv6.15.10//NONSGML v1.0//EN
CALSCALE:GREGORIAN
METHOD:PUBLISH
X-WR-CALNAME:Law4Hogs
X-ORIGINAL-URL:https://www.law4hogs.com
X-WR-CALDESC:Events for Law4Hogs
REFRESH-INTERVAL;VALUE=DURATION:PT1H
X-Robots-Tag:noindex
X-PUBLISHED-TTL:PT1H
BEGIN:VTIMEZONE
TZID:America/New_York
BEGIN:DAYLIGHT
TZOFFSETFROM:-0500
TZOFFSETTO:-0400
TZNAME:EDT
DTSTART:20240310T070000
END:DAYLIGHT
BEGIN:STANDARD
TZOFFSETFROM:-0400
TZOFFSETTO:-0500
TZNAME:EST
DTSTART:20241103T060000
END:STANDARD
BEGIN:DAYLIGHT
TZOFFSETFROM:-0500
TZOFFSETTO:-0400
TZNAME:EDT
DTSTART:20250309T070000
END:DAYLIGHT
BEGIN:STANDARD
TZOFFSETFROM:-0400
TZOFFSETTO:-0500
TZNAME:EST
DTSTART:20251102T060000
END:STANDARD
BEGIN:DAYLIGHT
TZOFFSETFROM:-0500
TZOFFSETTO:-0400
TZNAME:EDT
DTSTART:20260308T070000
END:DAYLIGHT
BEGIN:STANDARD
TZOFFSETFROM:-0400
TZOFFSETTO:-0500
TZNAME:EST
DTSTART:20261101T060000
END:STANDARD
END:VTIMEZONE
BEGIN:VEVENT
DTSTART;TZID=America/New_York:20250912T100000
DTEND;TZID=America/New_York:20250914T110000
DTSTAMP:20260422T093009
CREATED:20250723T222601Z
LAST-MODIFIED:20250723T222601Z
UID:15559-1757671200-1757847600@www.law4hogs.com
SUMMARY:New Sweden BMW Riders\, Inc. Last Chance Rally 09/12/25 thru 09/14/25
DESCRIPTION:Enjoy 2 nights of Moto-Camping! \nFriday and Saturday Night Meals included with your registration \nBreakfast and lunch served daily at the campground café at reasonable prices. \nFRIDAY\, SEPTEMBER 12th        \n10 AM – 8PM Gates open for registration/check in \n3PM KSU Wayne Tarapilli Welcome Road Ride **NEW THIS YEAR ** \n(Just a short jaunt thru the pines!) \n5:00 to 8:00 p.m.  Burgers\, Dogs and Sides in the Pavilion \nFriday Movie Night at Dusk (weather permitting) ** NEW THIS YEAR*** \nSATURDAY\, SEPTEMBER 13st      \n8:00 – 9:15 AM Registration at the Campground Entrance \nGuided Rides (Riders meet at the camp store for departure) \n9:30 a.m. SHARP! – GS/Funduro \n9:30 a.m.\, KSU!  Wayne Tarapilli guided ride through scenic South Jersey\, with lunch stop. GPS route will be sent to pre-registrants \n3:00 p.m. – Field Events \n5:30 p.m. – Award winning BBQ Banquet served in the Pavilion \n7:00 p.m. DOOR PRIZES\, 50/50 Gift Card & MAJOR PRIZE DRAWING & FIELD EVENT AWARDS \nGift Card “Silent” Auction **NEW THIS YEAR** \nGROUP BONFIRE!  and S’Mores (Conditions permitting) \nFriday & Saturday in the Pavilion Free Soda\, Water\, Coffee and Tea  \n                                                         SUNDAY\, SEPTEMER 14th   \nPack your belongings for A SAFE ride home. \n  \nRIDE SAFE! \nIMPORTANT:  Door prize tickets issued at registration/check-in and will be drawn in the Pavilion on Saturday starting at 7:00 PM (must be present to win).   \n 
URL:https://www.law4hogs.com/event/new-sweden-bmw-riders-inc-last-chance-rally-09-12-25-thru-09-14-25/
LOCATION:Turtle Run Campground\, 3 Cedar Lane\, Egg Harbor City\, NJ\, 08215\, United States
CATEGORIES:Event
ATTACH;FMTTYPE=image/jpeg:https://www.law4hogs.com/wp-content/uploads/DSC02209.jpg
END:VEVENT
END:VCALENDAR