BEGIN:VCALENDAR
VERSION:2.0
PRODID:-//Law4Hogs - ECPv6.15.10//NONSGML v1.0//EN
CALSCALE:GREGORIAN
METHOD:PUBLISH
X-WR-CALNAME:Law4Hogs
X-ORIGINAL-URL:https://www.law4hogs.com
X-WR-CALDESC:Events for Law4Hogs
REFRESH-INTERVAL;VALUE=DURATION:PT1H
X-Robots-Tag:noindex
X-PUBLISHED-TTL:PT1H
BEGIN:VTIMEZONE
TZID:America/New_York
BEGIN:DAYLIGHT
TZOFFSETFROM:-0500
TZOFFSETTO:-0400
TZNAME:EDT
DTSTART:20240310T070000
END:DAYLIGHT
BEGIN:STANDARD
TZOFFSETFROM:-0400
TZOFFSETTO:-0500
TZNAME:EST
DTSTART:20241103T060000
END:STANDARD
BEGIN:DAYLIGHT
TZOFFSETFROM:-0500
TZOFFSETTO:-0400
TZNAME:EDT
DTSTART:20250309T070000
END:DAYLIGHT
BEGIN:STANDARD
TZOFFSETFROM:-0400
TZOFFSETTO:-0500
TZNAME:EST
DTSTART:20251102T060000
END:STANDARD
BEGIN:DAYLIGHT
TZOFFSETFROM:-0500
TZOFFSETTO:-0400
TZNAME:EDT
DTSTART:20260308T070000
END:DAYLIGHT
BEGIN:STANDARD
TZOFFSETFROM:-0400
TZOFFSETTO:-0500
TZNAME:EST
DTSTART:20261101T060000
END:STANDARD
END:VTIMEZONE
BEGIN:VEVENT
DTSTART;TZID=America/New_York:20250916T113000
DTEND;TZID=America/New_York:20250916T130000
DTSTAMP:20260422T093010
CREATED:20250723T222321Z
LAST-MODIFIED:20250723T222321Z
UID:15578-1758022200-1758027600@www.law4hogs.com
SUMMARY:Mobile Vietnam Wall Escort
DESCRIPTION:AMERICAN LEGION RIDERS POST 352 AND NJ STATE POLICE will be leading an Escort along with additional Service Related Organizations of the Mobile Vietnam Wall from GSP Frank Sinatra Service Plaza milepost 41\, Galloway to Atlantic County Community College.  All Riders are welcome to join in the Escort.  The arrival will kick of a 5 Day Commemoration of the 50th Anniversary of the End of the Vietnam Wall.  This will be the last event Commemorating this in NJ.           ALL RIDERS ARE WELCOME.          RAIN OR SHINE. \nMeet: 11:30 AM\,  KSU: 11:45 AM.
URL:https://www.law4hogs.com/event/mobile-vietnam-wall-escort/
LOCATION:2652 Lacey Road
ATTACH;FMTTYPE=image/jpeg:https://www.law4hogs.com/wp-content/uploads/Sept-16-2025-Save-Mobil-Wall-Escort-Save-the-Date-Flyer-1.jpeg
END:VEVENT
BEGIN:VEVENT
DTSTART;TZID=America/New_York:20250916T113000
DTEND;TZID=America/New_York:20250916T130000
DTSTAMP:20260422T093010
CREATED:20250724T133833Z
LAST-MODIFIED:20250724T133833Z
UID:15573-1758022200-1758027600@www.law4hogs.com
SUMMARY:American Legion Riders Escort of Mobil Vietnam Wall
DESCRIPTION:AMERICAN LEGION RIDERS POST 352 AND NJ STATE POLICE & VARIOUS SERVICE RELATED ORG’S will be Leading the “Mobile Vietam Wall Escort” from GSP Frank Sinatra Rest Area Mile 41 to Atlantic County Community College.    The arrival will kick off a 5 Day Commemoration of the 50th Anniversary of the Ending of  the Vietnam War at Atlantic County Community College.    This is the LAST Major 50th Anniversary Commemoration in NJ.                      WE ARE WELCOMING ALL RIDERS TO JOIN IN THE ESCORT.                  RAIN OR SHINE \nMeet:  11:30 AM       KSU:  11:45 AM
URL:https://www.law4hogs.com/event/american-legion-riders-escort-of-mobil-vietnam-wall/
LOCATION:2652 Lacey Road
ATTACH;FMTTYPE=image/jpeg:https://www.law4hogs.com/wp-content/uploads/20250707_153658-6-1-scaled.jpg
END:VEVENT
END:VCALENDAR