BEGIN:VCALENDAR
VERSION:2.0
PRODID:-//Law4Hogs - ECPv6.15.10//NONSGML v1.0//EN
CALSCALE:GREGORIAN
METHOD:PUBLISH
X-WR-CALNAME:Law4Hogs
X-ORIGINAL-URL:https://www.law4hogs.com
X-WR-CALDESC:Events for Law4Hogs
REFRESH-INTERVAL;VALUE=DURATION:PT1H
X-Robots-Tag:noindex
X-PUBLISHED-TTL:PT1H
BEGIN:VTIMEZONE
TZID:America/New_York
BEGIN:DAYLIGHT
TZOFFSETFROM:-0500
TZOFFSETTO:-0400
TZNAME:EDT
DTSTART:20240310T070000
END:DAYLIGHT
BEGIN:STANDARD
TZOFFSETFROM:-0400
TZOFFSETTO:-0500
TZNAME:EST
DTSTART:20241103T060000
END:STANDARD
BEGIN:DAYLIGHT
TZOFFSETFROM:-0500
TZOFFSETTO:-0400
TZNAME:EDT
DTSTART:20250309T070000
END:DAYLIGHT
BEGIN:STANDARD
TZOFFSETFROM:-0400
TZOFFSETTO:-0500
TZNAME:EST
DTSTART:20251102T060000
END:STANDARD
BEGIN:DAYLIGHT
TZOFFSETFROM:-0500
TZOFFSETTO:-0400
TZNAME:EDT
DTSTART:20260308T070000
END:DAYLIGHT
BEGIN:STANDARD
TZOFFSETFROM:-0400
TZOFFSETTO:-0500
TZNAME:EST
DTSTART:20261101T060000
END:STANDARD
END:VTIMEZONE
BEGIN:VEVENT
DTSTART;TZID=America/New_York:20251019T080000
DTEND;TZID=America/New_York:20251019T150000
DTSTAMP:20260422T110654
CREATED:20250429T025550Z
LAST-MODIFIED:20250429T025550Z
UID:14815-1760860800-1760886000@www.law4hogs.com
SUMMARY:Help a Hero Scholarship Program
DESCRIPTION:See flyer.
URL:https://www.law4hogs.com/event/help-a-hero-scholarship-program/
LOCATION:Consumer Plaza\, 310 NJ-36\, Longbranch\, 07764\, United States
ATTACH;FMTTYPE=image/jpeg:https://www.law4hogs.com/wp-content/uploads/Help-a-Hero.jpg
END:VEVENT
BEGIN:VEVENT
DTSTART;TZID=America/New_York:20251019T100000
DTEND;TZID=America/New_York:20251019T170000
DTSTAMP:20260422T110654
CREATED:20250927T140948Z
LAST-MODIFIED:20250927T140948Z
UID:16274-1760868000-1760893200@www.law4hogs.com
SUMMARY:Cape Classics MC Toy Run
DESCRIPTION:See flyer
URL:https://www.law4hogs.com/event/cape-classics-mc-toy-run/
LOCATION:Kindle Auto Plaza\, 525 Stone Harbor Blvd.\, Cape May Courthouse\, New Jersey
ATTACH;FMTTYPE=image/jpeg:https://www.law4hogs.com/wp-content/uploads/IMG_9799-1.jpg
END:VEVENT
BEGIN:VEVENT
DTSTART;TZID=America/New_York:20251019T100000
DTEND;TZID=America/New_York:20251019T170000
DTSTAMP:20260422T110654
CREATED:20250929T213915Z
LAST-MODIFIED:20250929T213959Z
UID:16328-1760868000-1760893200@www.law4hogs.com
SUMMARY:Ride for Vets
DESCRIPTION:see flyer
URL:https://www.law4hogs.com/event/ride-for-vets/
LOCATION:Legion riders post 352\, 733 1st St\, Somers point\, New Jersey
ATTACH;FMTTYPE=image/jpeg:https://www.law4hogs.com/wp-content/uploads/IMG_9795-1.jpg
END:VEVENT
BEGIN:VEVENT
DTSTART;TZID=America/New_York:20251019T100000
DTEND;TZID=America/New_York:20251019T170000
DTSTAMP:20260422T110654
CREATED:20250929T215050Z
LAST-MODIFIED:20250929T215050Z
UID:16341-1760868000-1760893200@www.law4hogs.com
SUMMARY:Patriots Through The Pines MC & Truck Run
DESCRIPTION:See flyer
URL:https://www.law4hogs.com/event/patriots-through-the-pines-mc-truck-run/
LOCATION:Stafford Twp Arts Center\, 1000 McKinley Ave\, Stafford\, New Jersey\, 08050\, US
ATTACH;FMTTYPE=image/jpeg:https://www.law4hogs.com/wp-content/uploads/IMG_9793-1.jpg
END:VEVENT
END:VCALENDAR