BEGIN:VCALENDAR
VERSION:2.0
PRODID:-//Law4Hogs - ECPv6.15.10//NONSGML v1.0//EN
CALSCALE:GREGORIAN
METHOD:PUBLISH
X-ORIGINAL-URL:https://www.law4hogs.com
X-WR-CALDESC:Events for Law4Hogs
REFRESH-INTERVAL;VALUE=DURATION:PT1H
X-Robots-Tag:noindex
X-PUBLISHED-TTL:PT1H
BEGIN:VTIMEZONE
TZID:America/New_York
BEGIN:DAYLIGHT
TZOFFSETFROM:-0500
TZOFFSETTO:-0400
TZNAME:EDT
DTSTART:20240310T070000
END:DAYLIGHT
BEGIN:STANDARD
TZOFFSETFROM:-0400
TZOFFSETTO:-0500
TZNAME:EST
DTSTART:20241103T060000
END:STANDARD
BEGIN:DAYLIGHT
TZOFFSETFROM:-0500
TZOFFSETTO:-0400
TZNAME:EDT
DTSTART:20250309T070000
END:DAYLIGHT
BEGIN:STANDARD
TZOFFSETFROM:-0400
TZOFFSETTO:-0500
TZNAME:EST
DTSTART:20251102T060000
END:STANDARD
BEGIN:DAYLIGHT
TZOFFSETFROM:-0500
TZOFFSETTO:-0400
TZNAME:EDT
DTSTART:20260308T070000
END:DAYLIGHT
BEGIN:STANDARD
TZOFFSETFROM:-0400
TZOFFSETTO:-0500
TZNAME:EST
DTSTART:20261101T060000
END:STANDARD
END:VTIMEZONE
BEGIN:VEVENT
DTSTART;TZID=America/New_York:20251111T080000
DTEND;TZID=America/New_York:20251111T170000
DTSTAMP:20260422T131418
CREATED:20250919T182751Z
LAST-MODIFIED:20250919T182751Z
UID:16004-1762848000-1762880400@www.law4hogs.com
SUMMARY:18th annual Veteran's Day ride and fund raiser
DESCRIPTION:Just a few weeks away for our 18th annual Veteran’s day motorcycle run and fund raiser Tuesday November 11th. Pre-registration can be made here at the dealership. See me to register. $20.00 for rider $10.00 for passengers. In addition we would like to have any active military personal join us at NO CHARGE. Let’s make this the biggest one yet. Any questions contact me at 732-229-8518. More updates to follow. Tom Page\, Shoreline Harley Davidson
URL:https://www.law4hogs.com/event/18th-annual-veterans-day-ride-and-fund-raiser/
LOCATION:2652 Lacey Road
END:VEVENT
END:VCALENDAR