BEGIN:VCALENDAR
VERSION:2.0
PRODID:-//Law4Hogs - ECPv6.15.10//NONSGML v1.0//EN
CALSCALE:GREGORIAN
METHOD:PUBLISH
X-ORIGINAL-URL:https://www.law4hogs.com
X-WR-CALDESC:Events for Law4Hogs
REFRESH-INTERVAL;VALUE=DURATION:PT1H
X-Robots-Tag:noindex
X-PUBLISHED-TTL:PT1H
BEGIN:VTIMEZONE
TZID:America/New_York
BEGIN:DAYLIGHT
TZOFFSETFROM:-0500
TZOFFSETTO:-0400
TZNAME:EDT
DTSTART:20240310T070000
END:DAYLIGHT
BEGIN:STANDARD
TZOFFSETFROM:-0400
TZOFFSETTO:-0500
TZNAME:EST
DTSTART:20241103T060000
END:STANDARD
BEGIN:DAYLIGHT
TZOFFSETFROM:-0500
TZOFFSETTO:-0400
TZNAME:EDT
DTSTART:20250309T070000
END:DAYLIGHT
BEGIN:STANDARD
TZOFFSETFROM:-0400
TZOFFSETTO:-0500
TZNAME:EST
DTSTART:20251102T060000
END:STANDARD
BEGIN:DAYLIGHT
TZOFFSETFROM:-0500
TZOFFSETTO:-0400
TZNAME:EDT
DTSTART:20260308T070000
END:DAYLIGHT
BEGIN:STANDARD
TZOFFSETFROM:-0400
TZOFFSETTO:-0500
TZNAME:EST
DTSTART:20261101T060000
END:STANDARD
END:VTIMEZONE
BEGIN:VEVENT
DTSTART;TZID=America/New_York:20250912T100000
DTEND;TZID=America/New_York:20250914T110000
DTSTAMP:20260422T074236
CREATED:20250723T222601Z
LAST-MODIFIED:20250723T222601Z
UID:15559-1757671200-1757847600@www.law4hogs.com
SUMMARY:New Sweden BMW Riders\, Inc. Last Chance Rally 09/12/25 thru 09/14/25
DESCRIPTION:Enjoy 2 nights of Moto-Camping! \nFriday and Saturday Night Meals included with your registration \nBreakfast and lunch served daily at the campground café at reasonable prices. \nFRIDAY\, SEPTEMBER 12th        \n10 AM – 8PM Gates open for registration/check in \n3PM KSU Wayne Tarapilli Welcome Road Ride **NEW THIS YEAR ** \n(Just a short jaunt thru the pines!) \n5:00 to 8:00 p.m.  Burgers\, Dogs and Sides in the Pavilion \nFriday Movie Night at Dusk (weather permitting) ** NEW THIS YEAR*** \nSATURDAY\, SEPTEMBER 13st      \n8:00 – 9:15 AM Registration at the Campground Entrance \nGuided Rides (Riders meet at the camp store for departure) \n9:30 a.m. SHARP! – GS/Funduro \n9:30 a.m.\, KSU!  Wayne Tarapilli guided ride through scenic South Jersey\, with lunch stop. GPS route will be sent to pre-registrants \n3:00 p.m. – Field Events \n5:30 p.m. – Award winning BBQ Banquet served in the Pavilion \n7:00 p.m. DOOR PRIZES\, 50/50 Gift Card & MAJOR PRIZE DRAWING & FIELD EVENT AWARDS \nGift Card “Silent” Auction **NEW THIS YEAR** \nGROUP BONFIRE!  and S’Mores (Conditions permitting) \nFriday & Saturday in the Pavilion Free Soda\, Water\, Coffee and Tea  \n                                                         SUNDAY\, SEPTEMER 14th   \nPack your belongings for A SAFE ride home. \n  \nRIDE SAFE! \nIMPORTANT:  Door prize tickets issued at registration/check-in and will be drawn in the Pavilion on Saturday starting at 7:00 PM (must be present to win).   \n 
URL:https://www.law4hogs.com/event/new-sweden-bmw-riders-inc-last-chance-rally-09-12-25-thru-09-14-25/
LOCATION:Turtle Run Campground\, 3 Cedar Lane\, Egg Harbor City\, NJ\, 08215\, United States
CATEGORIES:Event
ATTACH;FMTTYPE=image/jpeg:https://www.law4hogs.com/wp-content/uploads/DSC02209.jpg
END:VEVENT
BEGIN:VEVENT
DTSTART;TZID=America/New_York:20250916T113000
DTEND;TZID=America/New_York:20250916T130000
DTSTAMP:20260422T074236
CREATED:20250723T222321Z
LAST-MODIFIED:20250723T222321Z
UID:15578-1758022200-1758027600@www.law4hogs.com
SUMMARY:Mobile Vietnam Wall Escort
DESCRIPTION:AMERICAN LEGION RIDERS POST 352 AND NJ STATE POLICE will be leading an Escort along with additional Service Related Organizations of the Mobile Vietnam Wall from GSP Frank Sinatra Service Plaza milepost 41\, Galloway to Atlantic County Community College.  All Riders are welcome to join in the Escort.  The arrival will kick of a 5 Day Commemoration of the 50th Anniversary of the End of the Vietnam Wall.  This will be the last event Commemorating this in NJ.           ALL RIDERS ARE WELCOME.          RAIN OR SHINE. \nMeet: 11:30 AM\,  KSU: 11:45 AM.
URL:https://www.law4hogs.com/event/mobile-vietnam-wall-escort/
LOCATION:2652 Lacey Road
ATTACH;FMTTYPE=image/jpeg:https://www.law4hogs.com/wp-content/uploads/Sept-16-2025-Save-Mobil-Wall-Escort-Save-the-Date-Flyer-1.jpeg
END:VEVENT
BEGIN:VEVENT
DTSTART;TZID=America/New_York:20250916T113000
DTEND;TZID=America/New_York:20250916T130000
DTSTAMP:20260422T074236
CREATED:20250724T133833Z
LAST-MODIFIED:20250724T133833Z
UID:15573-1758022200-1758027600@www.law4hogs.com
SUMMARY:American Legion Riders Escort of Mobil Vietnam Wall
DESCRIPTION:AMERICAN LEGION RIDERS POST 352 AND NJ STATE POLICE & VARIOUS SERVICE RELATED ORG’S will be Leading the “Mobile Vietam Wall Escort” from GSP Frank Sinatra Rest Area Mile 41 to Atlantic County Community College.    The arrival will kick off a 5 Day Commemoration of the 50th Anniversary of the Ending of  the Vietnam War at Atlantic County Community College.    This is the LAST Major 50th Anniversary Commemoration in NJ.                      WE ARE WELCOMING ALL RIDERS TO JOIN IN THE ESCORT.                  RAIN OR SHINE \nMeet:  11:30 AM       KSU:  11:45 AM
URL:https://www.law4hogs.com/event/american-legion-riders-escort-of-mobil-vietnam-wall/
LOCATION:2652 Lacey Road
ATTACH;FMTTYPE=image/jpeg:https://www.law4hogs.com/wp-content/uploads/20250707_153658-6-1-scaled.jpg
END:VEVENT
BEGIN:VEVENT
DTSTART;TZID=America/New_York:20250920T090000
DTEND;TZID=America/New_York:20250920T170000
DTSTAMP:20260422T074236
CREATED:20250919T183454Z
LAST-MODIFIED:20250919T183454Z
UID:16050-1758358800-1758387600@www.law4hogs.com
SUMMARY:11th Annual 2025 Charity Ride
DESCRIPTION:See flyer
URL:https://www.law4hogs.com/event/11th-annual-2025-charity-ride/
LOCATION:Pica-A-Lilli Inn\, 866 Route 206\, Shamong\, New Jersey\, 08088\, US
ATTACH;FMTTYPE=image/png:https://www.law4hogs.com/wp-content/uploads/Widows-1.png
ORGANIZER;CN="Widows Sons NJ Grand Chapter":MAILTO:WSNJ.President@Gmail.com
END:VEVENT
BEGIN:VEVENT
DTSTART;TZID=America/New_York:20250921T090000
DTEND;TZID=America/New_York:20250921T170000
DTSTAMP:20260422T074236
CREATED:20250919T182954Z
LAST-MODIFIED:20250919T182954Z
UID:16043-1758445200-1758474000@www.law4hogs.com
SUMMARY:Forever Friends Charity By Run & Event
DESCRIPTION:See flyer
URL:https://www.law4hogs.com/event/forever-friends-charity-by-run-event/
LOCATION:Sussex County Fairgrounds\, 37 Plains Road\, Augusta\, NJ\, United States
ATTACH;FMTTYPE=image/jpeg:https://www.law4hogs.com/wp-content/uploads/Forever.jpg
ORGANIZER;CN="Forever Friends":MAILTO:foreverfriends4923@gmail.com
END:VEVENT
BEGIN:VEVENT
DTSTART;TZID=America/New_York:20250927T110000
DTEND;TZID=America/New_York:20250927T170000
DTSTAMP:20260422T074236
CREATED:20250924T144334Z
LAST-MODIFIED:20250924T144334Z
UID:16142-1758970800-1758992400@www.law4hogs.com
SUMMARY:Rolling Thunder Ride for Veterans
DESCRIPTION:Join us this Saturday!!! Family-friendly event to raise money for veterans!!! If you know a veteran\, love a veteran\, or are a veteran yourself – come enjoy the day with us! Veterans enter for free!!!! 🪖🎖️🇺🇸 FIRST YEAR AT A NEW LOCATION!!!! 📍🧭
URL:https://www.law4hogs.com/event/rolling-thunder-ride-for-veterans/
LOCATION:The Elks Club East Brunswick\, 21 Oakmont Avenue\, East Brunswick\, New Jersey\, 08816\, United States
CATEGORIES:Charity
ATTACH;FMTTYPE=image/jpeg:https://www.law4hogs.com/wp-content/uploads/IMG_9820-1.jpeg
END:VEVENT
BEGIN:VEVENT
DTSTART;TZID=America/New_York:20250927T110000
DTEND;TZID=America/New_York:20250927T170000
DTSTAMP:20260422T074236
CREATED:20250926T155946Z
LAST-MODIFIED:20250926T155946Z
UID:16132-1758970800-1758992400@www.law4hogs.com
SUMMARY:Ride for Veterans
DESCRIPTION:Ride for Veterans – honoring our founding president Billy Appice. Proceeds go to helping all veterans of American wars! Raffles\, 50/50\, vendors\, BBQ food\, cash bar\, live band and DJ! Family-friendly event!
URL:https://www.law4hogs.com/event/ride-for-veterans/
LOCATION:2652 Lacey Road
CATEGORIES:Charity
ATTACH;FMTTYPE=image/jpeg:https://www.law4hogs.com/wp-content/uploads/IMG_9820.jpeg
END:VEVENT
BEGIN:VEVENT
DTSTART;TZID=America/New_York:20250927T110000
DTEND;TZID=America/New_York:20250927T170000
DTSTAMP:20260422T074236
CREATED:20250927T141406Z
LAST-MODIFIED:20250927T141406Z
UID:16282-1758970800-1758992400@www.law4hogs.com
SUMMARY:Ladies Who Ride and Rescue
DESCRIPTION:See flyer
URL:https://www.law4hogs.com/event/ladies-who-ride-and-rescue/
LOCATION:Shoreline Harley Davidson\, 136 Monmouth Road\, West Long Branch\, New Jersey\, 07764\, US
ATTACH;FMTTYPE=image/jpeg:https://www.law4hogs.com/wp-content/uploads/IMG_9791-1.jpg
ORGANIZER;CN="Shoreline H-D|Shoreline H-D":MAILTO:susan@hdoceancounty.com|susan@hdoceancounty.com
END:VEVENT
BEGIN:VEVENT
DTSTART;TZID=America/New_York:20250927T120000
DTEND;TZID=America/New_York:20250927T210000
DTSTAMP:20260422T074236
CREATED:20250501T220609Z
LAST-MODIFIED:20250501T220609Z
UID:14854-1758974400-1759006800@www.law4hogs.com
SUMMARY:Bridgewater Music Festival
DESCRIPTION:See flyer.
URL:https://www.law4hogs.com/event/bridgewater-music-festival/
LOCATION:350 Woodside Lane\, 350 Woodside Lane\, Bridgewater\, NJ\, 08807\, US
ATTACH;FMTTYPE=image/jpeg:https://www.law4hogs.com/wp-content/uploads/Bridgewater-Music-Festival.jpg
END:VEVENT
BEGIN:VEVENT
DTSTART;TZID=America/New_York:20250927T130000
DTEND;TZID=America/New_York:20250927T180000
DTSTAMP:20260422T074236
CREATED:20250922T204830Z
LAST-MODIFIED:20250922T204830Z
UID:16098-1758978000-1758996000@www.law4hogs.com
SUMMARY:Semper Fi Chapter "Fall Bash" 2025
DESCRIPTION:Hosted at: \nSalem County Sportsman’s Club \n273 US-40\, Penns Grove\, NJ 08069 \nBeer / Food / Vendors / Music
URL:https://www.law4hogs.com/event/semper-fi-chapter-fall-bash-2025/
LOCATION:Salem County Sportsmen’s Club\, 273 US-40\, Penns Grove\, New Jersey\, 08069\, US
CATEGORIES:Event
ORGANIZER;CN="Leathernecks Nation%2C Semper Fi Chapter":MAILTO:rubicon70@comcast.net
END:VEVENT
END:VCALENDAR